BEGIN:VCALENDAR
VERSION:2.0
PRODID:-//Ecole du Sacré Coeur d&#039;Ampoigné - ECPv5.16.4//NONSGML v1.0//EN
CALSCALE:GREGORIAN
METHOD:PUBLISH
X-WR-CALNAME:Ecole du Sacré Coeur d&#039;Ampoigné
X-ORIGINAL-URL:http://ampoigne-sacrecoeur.fr
X-WR-CALDESC:évènements pour Ecole du Sacré Coeur d&#039;Ampoigné
BEGIN:VTIMEZONE
TZID:Europe/Paris
BEGIN:DAYLIGHT
TZOFFSETFROM:+0100
TZOFFSETTO:+0200
TZNAME:CEST
DTSTART:20190331T010000
END:DAYLIGHT
BEGIN:STANDARD
TZOFFSETFROM:+0200
TZOFFSETTO:+0100
TZNAME:CET
DTSTART:20191027T010000
END:STANDARD
END:VTIMEZONE
BEGIN:VEVENT
DTSTART;TZID=Europe/Paris:20190318T080000
DTEND;TZID=Europe/Paris:20190319T170000
DTSTAMP:20260425T202946
CREATED:20190224T174541Z
LAST-MODIFIED:20190224T174541Z
UID:218-1552896000-1553014800@ampoigne-sacrecoeur.fr
SUMMARY:Voyage classe POTERIE
DESCRIPTION:
URL:http://ampoigne-sacrecoeur.fr/event/voyage-classe-poterie/
LOCATION:Fuilet\, 49
CATEGORIES:Agenda Cycle 2
ATTACH;FMTTYPE=image/jpeg:http://ampoigne-sacrecoeur.fr/wp-content/uploads/2019/02/segsptpl3tc96q1.jpg
END:VEVENT
END:VCALENDAR