BEGIN:VCALENDAR
VERSION:2.0
PRODID:-//Ecole du Sacré Coeur d&#039;Ampoigné - ECPv5.16.4//NONSGML v1.0//EN
CALSCALE:GREGORIAN
METHOD:PUBLISH
X-WR-CALNAME:Ecole du Sacré Coeur d&#039;Ampoigné
X-ORIGINAL-URL:http://ampoigne-sacrecoeur.fr
X-WR-CALDESC:évènements pour Ecole du Sacré Coeur d&#039;Ampoigné
BEGIN:VTIMEZONE
TZID:Europe/Paris
BEGIN:DAYLIGHT
TZOFFSETFROM:+0100
TZOFFSETTO:+0200
TZNAME:CEST
DTSTART:20190331T010000
END:DAYLIGHT
BEGIN:STANDARD
TZOFFSETFROM:+0200
TZOFFSETTO:+0100
TZNAME:CET
DTSTART:20191027T010000
END:STANDARD
END:VTIMEZONE
BEGIN:VEVENT
DTSTART;VALUE=DATE:20190125
DTEND;VALUE=DATE:20190126
DTSTAMP:20260425T205646
CREATED:20190123T094533Z
LAST-MODIFIED:20190123T094533Z
UID:189-1548374400-1548460799@ampoigne-sacrecoeur.fr
SUMMARY:Cycle 3
DESCRIPTION:patati patata
URL:http://ampoigne-sacrecoeur.fr/event/cycle-3/
END:VEVENT
END:VCALENDAR